BEGIN:VCALENDAR
VERSION:2.0
PRODID:-//PVBreda - ECPv6.15.20//NONSGML v1.0//EN
CALSCALE:GREGORIAN
METHOD:PUBLISH
X-WR-CALNAME:PVBreda
X-ORIGINAL-URL:https://pvbreda.nl
X-WR-CALDESC:Evenementen voor PVBreda
REFRESH-INTERVAL;VALUE=DURATION:PT1H
X-Robots-Tag:noindex
X-PUBLISHED-TTL:PT1H
BEGIN:VTIMEZONE
TZID:Europe/Amsterdam
BEGIN:DAYLIGHT
TZOFFSETFROM:+0100
TZOFFSETTO:+0200
TZNAME:CEST
DTSTART:20240331T010000
END:DAYLIGHT
BEGIN:STANDARD
TZOFFSETFROM:+0200
TZOFFSETTO:+0100
TZNAME:CET
DTSTART:20241027T010000
END:STANDARD
BEGIN:DAYLIGHT
TZOFFSETFROM:+0100
TZOFFSETTO:+0200
TZNAME:CEST
DTSTART:20250330T010000
END:DAYLIGHT
BEGIN:STANDARD
TZOFFSETFROM:+0200
TZOFFSETTO:+0100
TZNAME:CET
DTSTART:20251026T010000
END:STANDARD
BEGIN:DAYLIGHT
TZOFFSETFROM:+0100
TZOFFSETTO:+0200
TZNAME:CEST
DTSTART:20260329T010000
END:DAYLIGHT
BEGIN:STANDARD
TZOFFSETFROM:+0200
TZOFFSETTO:+0100
TZNAME:CET
DTSTART:20261025T010000
END:STANDARD
BEGIN:DAYLIGHT
TZOFFSETFROM:+0100
TZOFFSETTO:+0200
TZNAME:CEST
DTSTART:20270328T010000
END:DAYLIGHT
BEGIN:STANDARD
TZOFFSETFROM:+0200
TZOFFSETTO:+0100
TZNAME:CET
DTSTART:20271031T010000
END:STANDARD
END:VTIMEZONE
BEGIN:VEVENT
DTSTART;TZID=Europe/Amsterdam:20260526T193000
DTEND;TZID=Europe/Amsterdam:20260526T213000
DTSTAMP:20260425T174839
CREATED:20251007T183222Z
LAST-MODIFIED:20251007T184343Z
UID:816-1779823800-1779831000@pvbreda.nl
SUMMARY:Algemene Ledenvergadering
DESCRIPTION:Algemene ledenvergadering met aansluitend kleine veiling. \nVeilinglijst: https://pvbreda.nl/veilingen/
URL:https://pvbreda.nl/event/algemene-ledenvergadering/
LOCATION:Ontmoetingscentrum de Vlieren\, Monseigneur Nolensplein 1\, Breda\, Noord-Brabant\, 4812 JC\, Nederland
CATEGORIES:Ledenbijeenkomst
ATTACH;FMTTYPE=image/jpeg:https://pvbreda.nl/wp-content/uploads/2023/11/ba266eb1f0928ebe4fa1b2e222eb4079.jpg
ORGANIZER;CN="Bestuur PVBreda":MAILTO:info@pvbreda.nl
END:VEVENT
BEGIN:VEVENT
DTSTART;TZID=Europe/Amsterdam:20260516T080000
DTEND;TZID=Europe/Amsterdam:20260516T170000
DTSTAMP:20260425T174839
CREATED:20251004T171002Z
LAST-MODIFIED:20251004T171002Z
UID:795-1778918400-1778950800@pvbreda.nl
SUMMARY:Ruilbeurs voor verzamelaars
DESCRIPTION:Ruiltafels en semi handelaren zijn aanwezig. \nParkeergelegenheid gratis
URL:https://pvbreda.nl/event/ruilbeurs-voor-verzamelaars-15/
LOCATION:Gemeenschapshuis De Kievitslaar\, Rijsbergseweg 354\, Breda\, Noord-Brabant\, 4838 EG\, Nederland
CATEGORIES:Postzegelruilbeurs
ATTACH;FMTTYPE=image/png:https://pvbreda.nl/wp-content/uploads/2023/11/logo-Kievitslaar.png
ORGANIZER;CN="Bestuur PVBreda":MAILTO:info@pvbreda.nl
END:VEVENT
BEGIN:VEVENT
DTSTART;TZID=Europe/Amsterdam:20260428T193000
DTEND;TZID=Europe/Amsterdam:20260428T213000
DTSTAMP:20260425T174839
CREATED:20251007T183013Z
LAST-MODIFIED:20251007T184323Z
UID:814-1777404600-1777411800@pvbreda.nl
SUMMARY:Ledenbijeenkomst met veiling
DESCRIPTION:Maandelijkse ledenavond waarin het bestuur de leden informeert over actuele postzegelzaken en een veiling wordt georganiseerd. Ook zijn er regelmatig lezingen en/of presentaties over postzegels. \nVeilinglijst: https://pvbreda.nl/veilingen/
URL:https://pvbreda.nl/event/ledenbijeenkomst-met-veiling-13/
LOCATION:Ontmoetingscentrum de Vlieren\, Monseigneur Nolensplein 1\, Breda\, Noord-Brabant\, 4812 JC\, Nederland
CATEGORIES:Ledenbijeenkomst
ATTACH;FMTTYPE=image/jpeg:https://pvbreda.nl/wp-content/uploads/2023/11/ba266eb1f0928ebe4fa1b2e222eb4079.jpg
ORGANIZER;CN="Bestuur PVBreda":MAILTO:info@pvbreda.nl
END:VEVENT
BEGIN:VEVENT
DTSTART;TZID=Europe/Amsterdam:20260418T130000
DTEND;TZID=Europe/Amsterdam:20260418T160000
DTSTAMP:20260425T174839
CREATED:20251004T170853Z
LAST-MODIFIED:20251004T170853Z
UID:793-1776517200-1776528000@pvbreda.nl
SUMMARY:Ruilbeurs voor verzamelaars
DESCRIPTION:Ruiltafels en semi handelaren zijn aanwezig. \nParkeergelegenheid gratis
URL:https://pvbreda.nl/event/ruilbeurs-voor-verzamelaars-14/
LOCATION:Gemeenschapshuis De Kievitslaar\, Rijsbergseweg 354\, Breda\, Noord-Brabant\, 4838 EG\, Nederland
CATEGORIES:Postzegelruilbeurs
ATTACH;FMTTYPE=image/png:https://pvbreda.nl/wp-content/uploads/2023/11/logo-Kievitslaar.png
ORGANIZER;CN="Bestuur PVBreda":MAILTO:info@pvbreda.nl
END:VEVENT
BEGIN:VEVENT
DTSTART;TZID=Europe/Amsterdam:20260331T193000
DTEND;TZID=Europe/Amsterdam:20260331T213000
DTSTAMP:20260425T174839
CREATED:20251007T182847Z
LAST-MODIFIED:20251007T184234Z
UID:812-1774985400-1774992600@pvbreda.nl
SUMMARY:Ledenbijeenkomst met veiling
DESCRIPTION:Maandelijkse ledenavond waarin het bestuur de leden informeert over actuele postzegelzaken en een veiling wordt georganiseerd. Ook zijn er regelmatig lezingen en/of presentaties over postzegels. \nVeilinglijst: https://pvbreda.nl/veilingen/
URL:https://pvbreda.nl/event/ledenbijeenkomst-met-veiling-12/
LOCATION:Ontmoetingscentrum de Vlieren\, Monseigneur Nolensplein 1\, Breda\, Noord-Brabant\, 4812 JC\, Nederland
CATEGORIES:Ledenbijeenkomst
ATTACH;FMTTYPE=image/jpeg:https://pvbreda.nl/wp-content/uploads/2023/11/ba266eb1f0928ebe4fa1b2e222eb4079.jpg
ORGANIZER;CN="Bestuur PVBreda":MAILTO:info@pvbreda.nl
END:VEVENT
BEGIN:VEVENT
DTSTART;TZID=Europe/Amsterdam:20260321T130000
DTEND;TZID=Europe/Amsterdam:20260321T160000
DTSTAMP:20260425T174839
CREATED:20251004T170745Z
LAST-MODIFIED:20251004T170745Z
UID:791-1774098000-1774108800@pvbreda.nl
SUMMARY:Ruilbeurs voor verzamelaars
DESCRIPTION:Ruiltafels en semi handelaren zijn aanwezig. \nParkeergelegenheid gratis
URL:https://pvbreda.nl/event/ruilbeurs-voor-verzamelaars-13/
LOCATION:Gemeenschapshuis De Kievitslaar\, Rijsbergseweg 354\, Breda\, Noord-Brabant\, 4838 EG\, Nederland
CATEGORIES:Postzegelruilbeurs
ATTACH;FMTTYPE=image/png:https://pvbreda.nl/wp-content/uploads/2023/11/logo-Kievitslaar.png
ORGANIZER;CN="Bestuur PVBreda":MAILTO:info@pvbreda.nl
END:VEVENT
BEGIN:VEVENT
DTSTART;TZID=Europe/Amsterdam:20260227T100000
DTEND;TZID=Europe/Amsterdam:20260228T163000
DTSTAMP:20260425T174839
CREATED:20260126T113834Z
LAST-MODIFIED:20260126T114405Z
UID:865-1772186400-1772296200@pvbreda.nl
SUMMARY:Winterstamps
DESCRIPTION:WINTERSTAMPS 2026 is de zesde editie van een zich steeds vernieuwende postzegelbeurs in Veenendaal in een luxe omgeving\, het Van der Valk Hotel aldaar. Er zijn een 30 tal stands met Nederlandse en buitenlandse (België\, Duitsland\, Zwitserland en Frankrijk) postzegel- en brievenhandelaren.\nNu ook met categorie 2 tentoonstelling met voornamelijk nieuwe collecties èn nieuwe exposanten. \nWinterstamps persbericht 2026.def+tentoonstelling
URL:https://pvbreda.nl/event/winterstamps-2/
LOCATION:Hotel van der Valk\, Bastion 73\, Veenendaal\, 3905 NJ\, Nederland
CATEGORIES:Overig
ATTACH;FMTTYPE=image/jpeg:https://pvbreda.nl/wp-content/uploads/2026/01/Flyer2026WSA6NLV2-1536x1090-1.jpg
ORGANIZER;CN="Winterstamps":MAILTO:info@winterstamps.nl
END:VEVENT
BEGIN:VEVENT
DTSTART;TZID=Europe/Amsterdam:20260224T193000
DTEND;TZID=Europe/Amsterdam:20260224T213000
DTSTAMP:20260425T174839
CREATED:20251007T182709Z
LAST-MODIFIED:20251007T184209Z
UID:810-1771961400-1771968600@pvbreda.nl
SUMMARY:Ledenbijeenkomst met veiling
DESCRIPTION:Maandelijkse ledenavond waarin het bestuur de leden informeert over actuele postzegelzaken en een veiling wordt georganiseerd. Ook zijn er regelmatig lezingen en/of presentaties over postzegels. \nVeilinglijst: https://pvbreda.nl/veilingen/
URL:https://pvbreda.nl/event/ledenbijeenkomst-met-veiling-11/
LOCATION:Ontmoetingscentrum de Vlieren\, Monseigneur Nolensplein 1\, Breda\, Noord-Brabant\, 4812 JC\, Nederland
CATEGORIES:Ledenbijeenkomst
ATTACH;FMTTYPE=image/jpeg:https://pvbreda.nl/wp-content/uploads/2023/11/ba266eb1f0928ebe4fa1b2e222eb4079.jpg
ORGANIZER;CN="Bestuur PVBreda":MAILTO:info@pvbreda.nl
END:VEVENT
BEGIN:VEVENT
DTSTART;TZID=Europe/Amsterdam:20260221T130000
DTEND;TZID=Europe/Amsterdam:20260221T160000
DTSTAMP:20260425T174839
CREATED:20251004T170631Z
LAST-MODIFIED:20251004T170631Z
UID:789-1771678800-1771689600@pvbreda.nl
SUMMARY:Ruilbeurs voor verzamelaars
DESCRIPTION:Ruiltafels en semi handelaren zijn aanwezig. \nParkeergelegenheid gratis
URL:https://pvbreda.nl/event/ruilbeurs-voor-verzamelaars-12/
LOCATION:Gemeenschapshuis De Kievitslaar\, Rijsbergseweg 354\, Breda\, Noord-Brabant\, 4838 EG\, Nederland
CATEGORIES:Postzegelruilbeurs
ATTACH;FMTTYPE=image/png:https://pvbreda.nl/wp-content/uploads/2023/11/logo-Kievitslaar.png
ORGANIZER;CN="Bestuur PVBreda":MAILTO:info@pvbreda.nl
END:VEVENT
BEGIN:VEVENT
DTSTART;TZID=Europe/Amsterdam:20260127T193000
DTEND;TZID=Europe/Amsterdam:20260127T220000
DTSTAMP:20260425T174839
CREATED:20240925T113156Z
LAST-MODIFIED:20251214T151628Z
UID:609-1769542200-1769551200@pvbreda.nl
SUMMARY:Bingo met veiling
DESCRIPTION:Kosten bingokaart: 1 stuks EUR 3\,–\,  2 stuks EUR 5\,– en 3 stuks EUR 6\,– \n  \nVeilinglijst: https://pvbreda.nl/veilingen/
URL:https://pvbreda.nl/event/bingo-met-veiling/
LOCATION:Ontmoetingscentrum de Vlieren\, Monseigneur Nolensplein 1\, Breda\, Noord-Brabant\, 4812 JC\, Nederland
CATEGORIES:Ledenbijeenkomst
ATTACH;FMTTYPE=image/jpeg:https://pvbreda.nl/wp-content/uploads/2023/11/bingo.jpg
ORGANIZER;CN="Bestuur PVBreda":MAILTO:info@pvbreda.nl
END:VEVENT
BEGIN:VEVENT
DTSTART;TZID=Europe/Amsterdam:20260117T130000
DTEND;TZID=Europe/Amsterdam:20260117T160000
DTSTAMP:20260425T174839
CREATED:20251004T170419Z
LAST-MODIFIED:20251004T170419Z
UID:787-1768654800-1768665600@pvbreda.nl
SUMMARY:Ruilbeurs voor verzamelaars
DESCRIPTION:Ruiltafels en semi handelaren zijn aanwezig. \nParkeergelegenheid gratis
URL:https://pvbreda.nl/event/ruilbeurs-voor-verzamelaars-11/
LOCATION:Gemeenschapshuis De Kievitslaar\, Rijsbergseweg 354\, Breda\, Noord-Brabant\, 4838 EG\, Nederland
CATEGORIES:Postzegelruilbeurs
ATTACH;FMTTYPE=image/png:https://pvbreda.nl/wp-content/uploads/2023/11/logo-Kievitslaar.png
ORGANIZER;CN="Bestuur PVBreda":MAILTO:info@pvbreda.nl
END:VEVENT
BEGIN:VEVENT
DTSTART;TZID=Europe/Amsterdam:20251229T100000
DTEND;TZID=Europe/Amsterdam:20251230T170000
DTSTAMP:20260425T174839
CREATED:20251004T164236Z
LAST-MODIFIED:20251004T164325Z
UID:770-1767002400-1767114000@pvbreda.nl
SUMMARY:4e Oudjaarsbeurs Houten 2025
DESCRIPTION:Dit tweedaagse internationale evenement wordt volgens traditie altijd georganiseerd in de periode tussen kerst en de jaarwisseling. Op deze internationale beurs is de grootste beurshal (3300m2) geheel gevuld door verkopers van postzegels\, poststukken en prentbriefkaarten. Ook zijn er promotiestands van filatelistische verenigingen en is er een stand van PostNL met o.a. een speciale beursuitgifte. Op dit evenement zijn ook stands waar bijpassende toebehoren worden verkocht. Op deze met afstand grootste postzegelbeurs in Nederland worden jaarlijks een paar duizend verzamelaars verwacht.\nDeze 3e OUDJAARSBEURS HOUTEN staat gepland op maandag 29 en dinsdag 30 december 2025. \nTijdens dit evenement en alleen op de eerste beursdag wordt een tweede hal (2200m2) aangekoppeld voor standhouders met alleen munten\, penningen en papiergeld. In deze hal presenteren zich ook numismatische verenigingen (kringen) met een promotiestand. \nDeze “muntenzaal” is alleen geopend op maandag 29 december 2025. \nKlik hier voor meer informatie \nKoop hier je ticket
URL:https://pvbreda.nl/event/4e-oudjaarsbeurs-houten-2025/
LOCATION:Expo Houten\, Meidoornkade 24\, Houten\, 3992 AE
CATEGORIES:Postzegeltentoonstelling
ATTACH;FMTTYPE=image/jpeg:https://pvbreda.nl/wp-content/uploads/2025/10/Agenda-website-WB-evenementen.jpg
END:VEVENT
BEGIN:VEVENT
DTSTART;TZID=Europe/Amsterdam:20251220T130000
DTEND;TZID=Europe/Amsterdam:20251220T160000
DTSTAMP:20260425T174839
CREATED:20240925T110623Z
LAST-MODIFIED:20240925T110623Z
UID:589-1766235600-1766246400@pvbreda.nl
SUMMARY:Ruilbeurs voor verzamelaars
DESCRIPTION:Ruiltafels en semi handelaren zijn aanwezig. \nParkeergelegenheid gratis
URL:https://pvbreda.nl/event/ruilbeurs-voor-verzamelaars-10/
LOCATION:Gemeenschapshuis De Kievitslaar\, Rijsbergseweg 354\, Breda\, Noord-Brabant\, 4838 EG\, Nederland
CATEGORIES:Postzegelruilbeurs
ATTACH;FMTTYPE=image/png:https://pvbreda.nl/wp-content/uploads/2023/11/logo-Kievitslaar.png
ORGANIZER;CN="Bestuur PVBreda":MAILTO:info@pvbreda.nl
END:VEVENT
BEGIN:VEVENT
DTSTART;TZID=Europe/Amsterdam:20251216T193000
DTEND;TZID=Europe/Amsterdam:20251216T213000
DTSTAMP:20260425T174839
CREATED:20251007T182600Z
LAST-MODIFIED:20251028T200947Z
UID:808-1765913400-1765920600@pvbreda.nl
SUMMARY:Ledenbijeenkomst met veiling
DESCRIPTION:Maandelijkse ledenavond waarin het bestuur de leden informeert over actuele postzegelzaken en een veiling wordt georganiseerd. Ook zijn er regelmatig lezingen en/of presentaties over postzegels. \nVeilinglijst: https://pvbreda.nl/veilingen/
URL:https://pvbreda.nl/event/ledenbijeenkomst-met-veiling-10/
LOCATION:Ontmoetingscentrum de Vlieren\, Monseigneur Nolensplein 1\, Breda\, Noord-Brabant\, 4812 JC\, Nederland
CATEGORIES:Ledenbijeenkomst
ATTACH;FMTTYPE=image/jpeg:https://pvbreda.nl/wp-content/uploads/2023/11/ba266eb1f0928ebe4fa1b2e222eb4079.jpg
ORGANIZER;CN="Bestuur PVBreda":MAILTO:info@pvbreda.nl
END:VEVENT
BEGIN:VEVENT
DTSTART;TZID=Europe/Amsterdam:20251125T193000
DTEND;TZID=Europe/Amsterdam:20251125T213000
DTSTAMP:20260425T174839
CREATED:20240925T113027Z
LAST-MODIFIED:20240925T113027Z
UID:607-1764099000-1764106200@pvbreda.nl
SUMMARY:Ledenbijeenkomst met veiling
DESCRIPTION:Maandelijkse ledenavond waarin het bestuur de leden informeert over actuele postzegelzaken en een veiling wordt georganiseerd. Ook zijn er regelmatig lezingen en/of presentaties over postzegels. \nVeilinglijst: https://pvbreda.nl/veilingen/
URL:https://pvbreda.nl/event/ledenbijeenkomst-met-veiling-9/
LOCATION:Ontmoetingscentrum de Vlieren\, Monseigneur Nolensplein 1\, Breda\, Noord-Brabant\, 4812 JC\, Nederland
CATEGORIES:Ledenbijeenkomst
ATTACH;FMTTYPE=image/jpeg:https://pvbreda.nl/wp-content/uploads/2023/11/ba266eb1f0928ebe4fa1b2e222eb4079.jpg
ORGANIZER;CN="Bestuur PVBreda":MAILTO:info@pvbreda.nl
END:VEVENT
BEGIN:VEVENT
DTSTART;TZID=Europe/Amsterdam:20251115T130000
DTEND;TZID=Europe/Amsterdam:20251115T160000
DTSTAMP:20260425T174839
CREATED:20240925T110436Z
LAST-MODIFIED:20240925T110436Z
UID:587-1763211600-1763222400@pvbreda.nl
SUMMARY:Ruilbeurs voor verzamelaars
DESCRIPTION:Ruiltafels en semi handelaren zijn aanwezig. \nParkeergelegenheid gratis
URL:https://pvbreda.nl/event/ruilbeurs-voor-verzamelaars-9/
LOCATION:Gemeenschapshuis De Kievitslaar\, Rijsbergseweg 354\, Breda\, Noord-Brabant\, 4838 EG\, Nederland
CATEGORIES:Postzegelruilbeurs
ATTACH;FMTTYPE=image/png:https://pvbreda.nl/wp-content/uploads/2023/11/logo-Kievitslaar.png
ORGANIZER;CN="Bestuur PVBreda":MAILTO:info@pvbreda.nl
END:VEVENT
BEGIN:VEVENT
DTSTART;TZID=Europe/Amsterdam:20251028T193000
DTEND;TZID=Europe/Amsterdam:20251028T213000
DTSTAMP:20260425T174839
CREATED:20240925T112907Z
LAST-MODIFIED:20240925T112907Z
UID:605-1761679800-1761687000@pvbreda.nl
SUMMARY:Ledenbijeenkomst met veiling
DESCRIPTION:Maandelijkse ledenavond waarin het bestuur de leden informeert over actuele postzegelzaken en een veiling wordt georganiseerd. Ook zijn er regelmatig lezingen en/of presentaties over postzegels. \nVeilinglijst: https://pvbreda.nl/veilingen/
URL:https://pvbreda.nl/event/ledenbijeenkomst-met-veiling-8/
LOCATION:Ontmoetingscentrum de Vlieren\, Monseigneur Nolensplein 1\, Breda\, Noord-Brabant\, 4812 JC\, Nederland
CATEGORIES:Ledenbijeenkomst
ATTACH;FMTTYPE=image/jpeg:https://pvbreda.nl/wp-content/uploads/2023/11/ba266eb1f0928ebe4fa1b2e222eb4079.jpg
ORGANIZER;CN="Bestuur PVBreda":MAILTO:info@pvbreda.nl
END:VEVENT
BEGIN:VEVENT
DTSTART;TZID=Europe/Amsterdam:20251024T100000
DTEND;TZID=Europe/Amsterdam:20251025T170000
DTSTAMP:20260425T174839
CREATED:20250905T064548Z
LAST-MODIFIED:20250905T064735Z
UID:763-1761300000-1761411600@pvbreda.nl
SUMMARY:POSTEX 2025
DESCRIPTION:De Postzegelshow POSTEX 2025 wordt gehouden in De Veluwehal\, Nieuwe Markt 6\, 3771 CB Barneveld. Deze keer op 24 en 25 oktober. Er zijn prachtige postzegelcollecties te zien en ongeveer 50 postzegelhandelaren zijn aanwezig met een verkoopstand. PostNL is er met een stand\, waar recent uitgegeven postzegels gekocht kunnen worden. Diverse verenigingen en organisaties zijn aanwezig met een promotiestand. De dubbeltjeshoek van de Postex is aanwezig met een groot aantal stockboeken met postzegels van de gehele wereld\, gesorteerd op land en thema. Ook wordt ruim aandacht gegeven aan de jeugdige verzamelaars.\nEr is gratis wifi beschikbaar. \nOpeningstijden en locatie\n\nOp vrijdag 24 oktober 2025 is POSTEX geopend van 10.00 tot 17.00 uur.\nOp zaterdag 25 oktober 2025 is POSTEX geopend van 10.00 tot 16.00 uur.\n\nDe Postzegelshow POSTEX 2025 wordt gehouden in De Veluwehal\, Nieuwe Markt 6\, 3771 CB Barneveld. \nGratis postzegel\nElke betalende bezoeker van POSTEX 2025 ontvangt een unieke gratis postzegel.\nMeerdere exemplaren kunnen worden gekocht bij de informatiestand van POSTEX. \nToegangsprijs bedraagt € 6\,00 per persoon\, de jeugd t/m 17 jaar heeft gratis toegang.\nEen passe-partout (€ 9\,00) geeft recht op onbeperkte toegang gedurende twee dagen.
URL:https://pvbreda.nl/event/postex-2025/
LOCATION:De Veluwehal\, Nieuwe Markt 6\, Barneveld\, 3771 CB
CATEGORIES:Postzegeltentoonstelling
ATTACH;FMTTYPE=image/png:https://pvbreda.nl/wp-content/uploads/2025/09/Logo2025.png
END:VEVENT
BEGIN:VEVENT
DTSTART;TZID=Europe/Amsterdam:20251018T130000
DTEND;TZID=Europe/Amsterdam:20251018T160000
DTSTAMP:20260425T174839
CREATED:20240925T110137Z
LAST-MODIFIED:20240925T110137Z
UID:585-1760792400-1760803200@pvbreda.nl
SUMMARY:Ruilbeurs voor verzamelaars
DESCRIPTION:Ruiltafels en semi handelaren zijn aanwezig. \nParkeergelegenheid gratis
URL:https://pvbreda.nl/event/ruilbeurs-voor-verzamelaars-8/
LOCATION:Gemeenschapshuis De Kievitslaar\, Rijsbergseweg 354\, Breda\, Noord-Brabant\, 4838 EG\, Nederland
CATEGORIES:Postzegelruilbeurs
ATTACH;FMTTYPE=image/png:https://pvbreda.nl/wp-content/uploads/2023/11/logo-Kievitslaar.png
ORGANIZER;CN="Bestuur PVBreda":MAILTO:info@pvbreda.nl
END:VEVENT
BEGIN:VEVENT
DTSTART;TZID=Europe/Amsterdam:20250930T193000
DTEND;TZID=Europe/Amsterdam:20250930T213000
DTSTAMP:20260425T174839
CREATED:20240925T112717Z
LAST-MODIFIED:20240925T112717Z
UID:603-1759260600-1759267800@pvbreda.nl
SUMMARY:Ledenbijeenkomst met veiling
DESCRIPTION:Maandelijkse ledenavond waarin het bestuur de leden informeert over actuele postzegelzaken en een veiling wordt georganiseerd. Ook zijn er regelmatig lezingen en/of presentaties over postzegels. \nVeilinglijst: https://pvbreda.nl/veilingen/
URL:https://pvbreda.nl/event/ledenbijeenkomst-met-veiling-7/
LOCATION:Ontmoetingscentrum de Vlieren\, Monseigneur Nolensplein 1\, Breda\, Noord-Brabant\, 4812 JC\, Nederland
CATEGORIES:Ledenbijeenkomst
ATTACH;FMTTYPE=image/jpeg:https://pvbreda.nl/wp-content/uploads/2023/11/ba266eb1f0928ebe4fa1b2e222eb4079.jpg
ORGANIZER;CN="Bestuur PVBreda":MAILTO:info@pvbreda.nl
END:VEVENT
BEGIN:VEVENT
DTSTART;TZID=Europe/Amsterdam:20250920T130000
DTEND;TZID=Europe/Amsterdam:20250920T160000
DTSTAMP:20260425T174839
CREATED:20240925T110020Z
LAST-MODIFIED:20240925T110020Z
UID:583-1758373200-1758384000@pvbreda.nl
SUMMARY:Ruilbeurs voor verzamelaars
DESCRIPTION:Ruiltafels en semi handelaren zijn aanwezig. \nParkeergelegenheid gratis
URL:https://pvbreda.nl/event/ruilbeurs-voor-verzamelaars-7/
LOCATION:Gemeenschapshuis De Kievitslaar\, Rijsbergseweg 354\, Breda\, Noord-Brabant\, 4838 EG\, Nederland
CATEGORIES:Postzegelruilbeurs
ATTACH;FMTTYPE=image/png:https://pvbreda.nl/wp-content/uploads/2023/11/logo-Kievitslaar.png
ORGANIZER;CN="Bestuur PVBreda":MAILTO:info@pvbreda.nl
END:VEVENT
BEGIN:VEVENT
DTSTART;TZID=Europe/Amsterdam:20250621T130000
DTEND;TZID=Europe/Amsterdam:20250621T160000
DTSTAMP:20260425T174839
CREATED:20240925T105756Z
LAST-MODIFIED:20240925T105756Z
UID:581-1750510800-1750521600@pvbreda.nl
SUMMARY:Ruilbeurs voor verzamelaars
DESCRIPTION:Ruiltafels en semi handelaren zijn aanwezig. \nParkeergelegenheid gratis
URL:https://pvbreda.nl/event/ruilbeurs-voor-verzamelaars-6/
LOCATION:Gemeenschapshuis De Kievitslaar\, Rijsbergseweg 354\, Breda\, Noord-Brabant\, 4838 EG\, Nederland
CATEGORIES:Postzegelruilbeurs
ATTACH;FMTTYPE=image/png:https://pvbreda.nl/wp-content/uploads/2023/11/logo-Kievitslaar.png
ORGANIZER;CN="Bestuur PVBreda":MAILTO:info@pvbreda.nl
END:VEVENT
BEGIN:VEVENT
DTSTART;TZID=Europe/Amsterdam:20250617T193000
DTEND;TZID=Europe/Amsterdam:20250617T220000
DTSTAMP:20260425T174839
CREATED:20240925T112024Z
LAST-MODIFIED:20240925T112024Z
UID:601-1750188600-1750197600@pvbreda.nl
SUMMARY:Algemene Ledenvergadering met veiling
DESCRIPTION:Notulen: https://pvbreda.nl/algemene-leden-vergadering/ \nVeilinglijst: https://pvbreda.nl/veilingen/
URL:https://pvbreda.nl/event/algemene-ledenvergadering-met-veiling/
LOCATION:Ontmoetingscentrum de Vlieren\, Monseigneur Nolensplein 1\, Breda\, Noord-Brabant\, 4812 JC\, Nederland
CATEGORIES:Ledenbijeenkomst
ATTACH;FMTTYPE=image/jpeg:https://pvbreda.nl/wp-content/uploads/2023/12/cropped-Logo-PVBreda-2024.jpg
ORGANIZER;CN="Bestuur PVBreda":MAILTO:info@pvbreda.nl
END:VEVENT
BEGIN:VEVENT
DTSTART;TZID=Europe/Amsterdam:20250614T120000
DTEND;TZID=Europe/Amsterdam:20250614T180000
DTSTAMP:20260425T174839
CREATED:20250528T120722Z
LAST-MODIFIED:20250528T120753Z
UID:710-1749902400-1749924000@pvbreda.nl
SUMMARY:50 jaar Kievitslaar
DESCRIPTION:Beste Effenaren en (oud)gebruikers van de Kievitslaar\, \nDit jaar bestaat de Kievitslaar 50 jaar!Deze mijlpaal willen graag samen met jullie vieren! \nOp zaterdag 14 juni 2025 zijn er vanaf 12.00 uur feestelijke activiteiten in ons gemeenschapshuis de Kievitslaar georganiseerd. De toegang is gratis. Zie voor het programma de flyer ’50 jaar Kievitslaar’. \n“Muziektheater Flesjbek” komt uit hun repertoire 2 verschillende en spetterende voorstellingen geven in de Kievitslaar. Ze geloven in de kracht en het plezier van zingen en dansen en de positieve effecten die het heeft op je lichaam en geest. Met de shows willen zij ook andere mensen blij maken en daarom treden ze regelmatig op diverse locaties. Voor meer informatie over dit artistieke gezelschap\, zie: www.flesjbek.nl \nWil je zeker zijn van een plekje bij 1 of beiden voorstellingen?: geef je dan op. Zie hiervoor de flyer.
URL:https://pvbreda.nl/event/50-jaar-kievitslaar/
LOCATION:Gemeenschapshuis De Kievitslaar\, Rijsbergseweg 354\, Breda\, Noord-Brabant\, 4838 EG\, Nederland
CATEGORIES:Overig
ATTACH;FMTTYPE=image/png:https://pvbreda.nl/wp-content/uploads/2025/05/1.png
END:VEVENT
BEGIN:VEVENT
DTSTART;TZID=Europe/Amsterdam:20250527T193000
DTEND;TZID=Europe/Amsterdam:20250527T213000
DTSTAMP:20260425T174839
CREATED:20240925T111742Z
LAST-MODIFIED:20240925T111742Z
UID:599-1748374200-1748381400@pvbreda.nl
SUMMARY:Ledenbijeenkomst met veiling
DESCRIPTION:Maandelijkse ledenavond waarin het bestuur de leden informeert over actuele postzegelzaken en een veiling wordt georganiseerd. Ook zijn er regelmatig lezingen en/of presentaties over postzegels. \nVeilinglijst: https://pvbreda.nl/veilingen/
URL:https://pvbreda.nl/event/ledenbijeenkomst-met-veiling-6/
LOCATION:Ontmoetingscentrum de Vlieren\, Monseigneur Nolensplein 1\, Breda\, Noord-Brabant\, 4812 JC\, Nederland
CATEGORIES:Ledenbijeenkomst
ATTACH;FMTTYPE=image/jpeg:https://pvbreda.nl/wp-content/uploads/2023/11/ba266eb1f0928ebe4fa1b2e222eb4079.jpg
ORGANIZER;CN="Bestuur PVBreda":MAILTO:info@pvbreda.nl
END:VEVENT
BEGIN:VEVENT
DTSTART;TZID=Europe/Amsterdam:20250517T130000
DTEND;TZID=Europe/Amsterdam:20250517T160000
DTSTAMP:20260425T174839
CREATED:20240925T105641Z
LAST-MODIFIED:20240925T105641Z
UID:579-1747486800-1747497600@pvbreda.nl
SUMMARY:Ruilbeurs voor verzamelaars
DESCRIPTION:Ruiltafels en semi handelaren zijn aanwezig. \nParkeergelegenheid gratis
URL:https://pvbreda.nl/event/ruilbeurs-voor-verzamelaars-5/
LOCATION:Gemeenschapshuis De Kievitslaar\, Rijsbergseweg 354\, Breda\, Noord-Brabant\, 4838 EG\, Nederland
CATEGORIES:Postzegelruilbeurs
ATTACH;FMTTYPE=image/png:https://pvbreda.nl/wp-content/uploads/2023/11/logo-Kievitslaar.png
ORGANIZER;CN="Bestuur PVBreda":MAILTO:info@pvbreda.nl
END:VEVENT
BEGIN:VEVENT
DTSTART;TZID=Europe/Amsterdam:20250429T193000
DTEND;TZID=Europe/Amsterdam:20250429T213000
DTSTAMP:20260425T174839
CREATED:20240925T111616Z
LAST-MODIFIED:20240925T111616Z
UID:597-1745955000-1745962200@pvbreda.nl
SUMMARY:Ledenbijeenkomst met veiling
DESCRIPTION:Maandelijkse ledenavond waarin het bestuur de leden informeert over actuele postzegelzaken en een veiling wordt georganiseerd. Ook zijn er regelmatig lezingen en/of presentaties over postzegels. \nVeilinglijst: https://pvbreda.nl/veilingen/
URL:https://pvbreda.nl/event/ledenbijeenkomst-met-veiling-5/
LOCATION:Ontmoetingscentrum de Vlieren\, Monseigneur Nolensplein 1\, Breda\, Noord-Brabant\, 4812 JC\, Nederland
CATEGORIES:Ledenbijeenkomst
ATTACH;FMTTYPE=image/jpeg:https://pvbreda.nl/wp-content/uploads/2023/11/ba266eb1f0928ebe4fa1b2e222eb4079.jpg
ORGANIZER;CN="Bestuur PVBreda":MAILTO:info@pvbreda.nl
END:VEVENT
BEGIN:VEVENT
DTSTART;TZID=Europe/Amsterdam:20250419T130000
DTEND;TZID=Europe/Amsterdam:20250419T160000
DTSTAMP:20260425T174839
CREATED:20240925T105517Z
LAST-MODIFIED:20240925T105517Z
UID:577-1745067600-1745078400@pvbreda.nl
SUMMARY:Ruilbeurs voor verzamelaars
DESCRIPTION:Ruiltafels en semi handelaren zijn aanwezig. \nParkeergelegenheid gratis
URL:https://pvbreda.nl/event/ruilbeurs-voor-verzamelaars-4/
LOCATION:Gemeenschapshuis De Kievitslaar\, Rijsbergseweg 354\, Breda\, Noord-Brabant\, 4838 EG\, Nederland
CATEGORIES:Postzegelruilbeurs
ATTACH;FMTTYPE=image/png:https://pvbreda.nl/wp-content/uploads/2023/11/logo-Kievitslaar.png
ORGANIZER;CN="Bestuur PVBreda":MAILTO:info@pvbreda.nl
END:VEVENT
BEGIN:VEVENT
DTSTART;TZID=Europe/Amsterdam:20250325T193000
DTEND;TZID=Europe/Amsterdam:20250325T213000
DTSTAMP:20260425T174839
CREATED:20240925T111454Z
LAST-MODIFIED:20240925T111454Z
UID:595-1742931000-1742938200@pvbreda.nl
SUMMARY:Ledenbijeenkomst met veiling
DESCRIPTION:Maandelijkse ledenavond waarin het bestuur de leden informeert over actuele postzegelzaken en een veiling wordt georganiseerd. Ook zijn er regelmatig lezingen en/of presentaties over postzegels. \nVeilinglijst: https://pvbreda.nl/veilingen/
URL:https://pvbreda.nl/event/ledenbijeenkomst-met-veiling-4/
LOCATION:Ontmoetingscentrum de Vlieren\, Monseigneur Nolensplein 1\, Breda\, Noord-Brabant\, 4812 JC\, Nederland
CATEGORIES:Ledenbijeenkomst
ATTACH;FMTTYPE=image/jpeg:https://pvbreda.nl/wp-content/uploads/2023/11/ba266eb1f0928ebe4fa1b2e222eb4079.jpg
ORGANIZER;CN="Bestuur PVBreda":MAILTO:info@pvbreda.nl
END:VEVENT
BEGIN:VEVENT
DTSTART;TZID=Europe/Amsterdam:20250315T130000
DTEND;TZID=Europe/Amsterdam:20250315T160000
DTSTAMP:20260425T174839
CREATED:20240925T105401Z
LAST-MODIFIED:20240925T105401Z
UID:575-1742043600-1742054400@pvbreda.nl
SUMMARY:Ruilbeurs voor verzamelaars
DESCRIPTION:Ruiltafels en semi handelaren zijn aanwezig. \nParkeergelegenheid gratis
URL:https://pvbreda.nl/event/ruilbeurs-voor-verzamelaars-3/
LOCATION:Gemeenschapshuis De Kievitslaar\, Rijsbergseweg 354\, Breda\, Noord-Brabant\, 4838 EG\, Nederland
CATEGORIES:Postzegelruilbeurs
ATTACH;FMTTYPE=image/png:https://pvbreda.nl/wp-content/uploads/2023/11/logo-Kievitslaar.png
ORGANIZER;CN="Bestuur PVBreda":MAILTO:info@pvbreda.nl
END:VEVENT
END:VCALENDAR