BEGIN:VCALENDAR
VERSION:2.0
PRODID:-//PVBreda - ECPv6.15.20//NONSGML v1.0//EN
CALSCALE:GREGORIAN
METHOD:PUBLISH
X-ORIGINAL-URL:https://pvbreda.nl
X-WR-CALDESC:Evenementen voor PVBreda
REFRESH-INTERVAL;VALUE=DURATION:PT1H
X-Robots-Tag:noindex
X-PUBLISHED-TTL:PT1H
BEGIN:VTIMEZONE
TZID:Europe/Amsterdam
BEGIN:DAYLIGHT
TZOFFSETFROM:+0100
TZOFFSETTO:+0200
TZNAME:CEST
DTSTART:20230326T010000
END:DAYLIGHT
BEGIN:STANDARD
TZOFFSETFROM:+0200
TZOFFSETTO:+0100
TZNAME:CET
DTSTART:20231029T010000
END:STANDARD
BEGIN:DAYLIGHT
TZOFFSETFROM:+0100
TZOFFSETTO:+0200
TZNAME:CEST
DTSTART:20240331T010000
END:DAYLIGHT
BEGIN:STANDARD
TZOFFSETFROM:+0200
TZOFFSETTO:+0100
TZNAME:CET
DTSTART:20241027T010000
END:STANDARD
BEGIN:DAYLIGHT
TZOFFSETFROM:+0100
TZOFFSETTO:+0200
TZNAME:CEST
DTSTART:20250330T010000
END:DAYLIGHT
BEGIN:STANDARD
TZOFFSETFROM:+0200
TZOFFSETTO:+0100
TZNAME:CET
DTSTART:20251026T010000
END:STANDARD
BEGIN:DAYLIGHT
TZOFFSETFROM:+0100
TZOFFSETTO:+0200
TZNAME:CEST
DTSTART:20260329T010000
END:DAYLIGHT
BEGIN:STANDARD
TZOFFSETFROM:+0200
TZOFFSETTO:+0100
TZNAME:CET
DTSTART:20261025T010000
END:STANDARD
END:VTIMEZONE
BEGIN:VEVENT
DTSTART;TZID=Europe/Amsterdam:20251229T100000
DTEND;TZID=Europe/Amsterdam:20251230T170000
DTSTAMP:20260425T131144
CREATED:20251004T164236Z
LAST-MODIFIED:20251004T164325Z
UID:770-1767002400-1767114000@pvbreda.nl
SUMMARY:4e Oudjaarsbeurs Houten 2025
DESCRIPTION:Dit tweedaagse internationale evenement wordt volgens traditie altijd georganiseerd in de periode tussen kerst en de jaarwisseling. Op deze internationale beurs is de grootste beurshal (3300m2) geheel gevuld door verkopers van postzegels\, poststukken en prentbriefkaarten. Ook zijn er promotiestands van filatelistische verenigingen en is er een stand van PostNL met o.a. een speciale beursuitgifte. Op dit evenement zijn ook stands waar bijpassende toebehoren worden verkocht. Op deze met afstand grootste postzegelbeurs in Nederland worden jaarlijks een paar duizend verzamelaars verwacht.\nDeze 3e OUDJAARSBEURS HOUTEN staat gepland op maandag 29 en dinsdag 30 december 2025. \nTijdens dit evenement en alleen op de eerste beursdag wordt een tweede hal (2200m2) aangekoppeld voor standhouders met alleen munten\, penningen en papiergeld. In deze hal presenteren zich ook numismatische verenigingen (kringen) met een promotiestand. \nDeze “muntenzaal” is alleen geopend op maandag 29 december 2025. \nKlik hier voor meer informatie \nKoop hier je ticket
URL:https://pvbreda.nl/event/4e-oudjaarsbeurs-houten-2025/
LOCATION:Expo Houten\, Meidoornkade 24\, Houten\, 3992 AE
CATEGORIES:Postzegeltentoonstelling
ATTACH;FMTTYPE=image/jpeg:https://pvbreda.nl/wp-content/uploads/2025/10/Agenda-website-WB-evenementen.jpg
END:VEVENT
BEGIN:VEVENT
DTSTART;TZID=Europe/Amsterdam:20251024T100000
DTEND;TZID=Europe/Amsterdam:20251025T170000
DTSTAMP:20260425T131144
CREATED:20250905T064548Z
LAST-MODIFIED:20250905T064735Z
UID:763-1761300000-1761411600@pvbreda.nl
SUMMARY:POSTEX 2025
DESCRIPTION:De Postzegelshow POSTEX 2025 wordt gehouden in De Veluwehal\, Nieuwe Markt 6\, 3771 CB Barneveld. Deze keer op 24 en 25 oktober. Er zijn prachtige postzegelcollecties te zien en ongeveer 50 postzegelhandelaren zijn aanwezig met een verkoopstand. PostNL is er met een stand\, waar recent uitgegeven postzegels gekocht kunnen worden. Diverse verenigingen en organisaties zijn aanwezig met een promotiestand. De dubbeltjeshoek van de Postex is aanwezig met een groot aantal stockboeken met postzegels van de gehele wereld\, gesorteerd op land en thema. Ook wordt ruim aandacht gegeven aan de jeugdige verzamelaars.\nEr is gratis wifi beschikbaar. \nOpeningstijden en locatie\n\nOp vrijdag 24 oktober 2025 is POSTEX geopend van 10.00 tot 17.00 uur.\nOp zaterdag 25 oktober 2025 is POSTEX geopend van 10.00 tot 16.00 uur.\n\nDe Postzegelshow POSTEX 2025 wordt gehouden in De Veluwehal\, Nieuwe Markt 6\, 3771 CB Barneveld. \nGratis postzegel\nElke betalende bezoeker van POSTEX 2025 ontvangt een unieke gratis postzegel.\nMeerdere exemplaren kunnen worden gekocht bij de informatiestand van POSTEX. \nToegangsprijs bedraagt € 6\,00 per persoon\, de jeugd t/m 17 jaar heeft gratis toegang.\nEen passe-partout (€ 9\,00) geeft recht op onbeperkte toegang gedurende twee dagen.
URL:https://pvbreda.nl/event/postex-2025/
LOCATION:De Veluwehal\, Nieuwe Markt 6\, Barneveld\, 3771 CB
CATEGORIES:Postzegeltentoonstelling
ATTACH;FMTTYPE=image/png:https://pvbreda.nl/wp-content/uploads/2025/09/Logo2025.png
END:VEVENT
BEGIN:VEVENT
DTSTART;TZID=Europe/Amsterdam:20241101T100000
DTEND;TZID=Europe/Amsterdam:20241102T160000
DTSTAMP:20260425T131144
CREATED:20240925T143632Z
LAST-MODIFIED:20240925T143942Z
UID:611-1730455200-1730563200@pvbreda.nl
SUMMARY:Postex 2024 Barneveld
DESCRIPTION:Waar\, wanneer etc.\nDe Postzegelshow POSTEX 2024 wordt gehouden in De Veluwehal\, Nieuwe Markt 6\, 3771 CB Barneveld. \nOpeningstijden:\nvrijdag 1 november 2024 van 10.00 tot 17.00 uur\nzaterdag 2 november 2024 van 10.00 tot 16.00 uur\nToegangsprijs bedraagt € 5\,00 per persoon.\nDe jeugd t/m 17 jaar heeft gratis toegang. \nBereikbaarheid per openbaar vervoer en auto\nMet het openbaar vervoer is De Veluwehal uitstekend bereikbaar. U kunt met de trein naar Barneveld komen. De Veluwehal ligt op 500 meter van Station Barneveld-Centrum. \nDe Veluwehal is ook goed met de auto bereikbaar. Neem de A30 afslag 5 Barneveld\, vervolgens rijdt u richting centrum. Na 380 meter neemt u de tweede afslag op de rotonde richting Thorbeckelaan. Na 770 meter neemt u de tweede afslag op de rotonde richting Thorbeckelaan. Na ongeveer 700 meter aan uw rechterhand vindt u De Veluwehal. Er is voldoende parkeergelegenheid.
URL:https://pvbreda.nl/event/postex-2024-barneveld/
LOCATION:De Veluwehal\, Nieuwe Markt 6\, Barneveld\, 3771 CB
CATEGORIES:Postzegeltentoonstelling
ATTACH;FMTTYPE=image/jpeg:https://pvbreda.nl/wp-content/uploads/2024/09/967b47140742532ed949087f22d6f561_Logo2024.jpg
ORGANIZER;CN="Postex Barneveld":MAILTO:pzh.nisja@kpnmail.nl
END:VEVENT
BEGIN:VEVENT
DTSTART;TZID=Europe/Amsterdam:20240905T100000
DTEND;TZID=Europe/Amsterdam:20240907T160000
DTSTAMP:20260425T131144
CREATED:20240129T180155Z
LAST-MODIFIED:20240129T180839Z
UID:393-1725530400-1725724800@pvbreda.nl
SUMMARY:Nationale postzegeltentoonstelling Internationale handelarenshow 400 jaar fiscale filatelie
DESCRIPTION:Filafair Revenue 2024 wordt gehouden van 5 t/m 7 september 2024 in het Maaspoort Sportcomplex in ’s-Hertogenbosch. Het is een Nationale postzegeltentoonstelling \nin de Categorieën I & II met medewerking van de Koninklijke Nederlandse Bond \nvan Filatelistenverenigingen\, POSTNL en de Nederlandse Vereniging van Postzegelhandelaren.
URL:https://pvbreda.nl/event/nationale-postzegeltentoonstelling-internationale-handelarenshow-400-jaar-fiscale-filatelie/
LOCATION:Maaspoort\, Marathonloop 1\, 's Hertogenbosch\, Noord-Brabant\, 5235AA\, Nederland
CATEGORIES:Postzegeltentoonstelling
ATTACH;FMTTYPE=image/png:https://pvbreda.nl/wp-content/uploads/2024/01/Filafair-Revenue-2024.png
ORGANIZER;CN="Stichting Hertogpost":MAILTO:info@hertogpost-event.nl
END:VEVENT
END:VCALENDAR