BEGIN:VCALENDAR
VERSION:2.0
PRODID:-//PVBreda - ECPv6.15.20//NONSGML v1.0//EN
CALSCALE:GREGORIAN
METHOD:PUBLISH
X-WR-CALNAME:PVBreda
X-ORIGINAL-URL:https://pvbreda.nl
X-WR-CALDESC:Evenementen voor PVBreda
REFRESH-INTERVAL;VALUE=DURATION:PT1H
X-Robots-Tag:noindex
X-PUBLISHED-TTL:PT1H
BEGIN:VTIMEZONE
TZID:Europe/Amsterdam
BEGIN:DAYLIGHT
TZOFFSETFROM:+0100
TZOFFSETTO:+0200
TZNAME:CEST
DTSTART:20220327T010000
END:DAYLIGHT
BEGIN:STANDARD
TZOFFSETFROM:+0200
TZOFFSETTO:+0100
TZNAME:CET
DTSTART:20221030T010000
END:STANDARD
BEGIN:DAYLIGHT
TZOFFSETFROM:+0100
TZOFFSETTO:+0200
TZNAME:CEST
DTSTART:20230326T010000
END:DAYLIGHT
BEGIN:STANDARD
TZOFFSETFROM:+0200
TZOFFSETTO:+0100
TZNAME:CET
DTSTART:20231029T010000
END:STANDARD
BEGIN:DAYLIGHT
TZOFFSETFROM:+0100
TZOFFSETTO:+0200
TZNAME:CEST
DTSTART:20240331T010000
END:DAYLIGHT
BEGIN:STANDARD
TZOFFSETFROM:+0200
TZOFFSETTO:+0100
TZNAME:CET
DTSTART:20241027T010000
END:STANDARD
BEGIN:DAYLIGHT
TZOFFSETFROM:+0100
TZOFFSETTO:+0200
TZNAME:CEST
DTSTART:20250330T010000
END:DAYLIGHT
BEGIN:STANDARD
TZOFFSETFROM:+0200
TZOFFSETTO:+0100
TZNAME:CET
DTSTART:20251026T010000
END:STANDARD
BEGIN:DAYLIGHT
TZOFFSETFROM:+0100
TZOFFSETTO:+0200
TZNAME:CEST
DTSTART:20260329T010000
END:DAYLIGHT
BEGIN:STANDARD
TZOFFSETFROM:+0200
TZOFFSETTO:+0100
TZNAME:CET
DTSTART:20261025T010000
END:STANDARD
BEGIN:DAYLIGHT
TZOFFSETFROM:+0100
TZOFFSETTO:+0200
TZNAME:CEST
DTSTART:20270328T010000
END:DAYLIGHT
BEGIN:STANDARD
TZOFFSETFROM:+0200
TZOFFSETTO:+0100
TZNAME:CET
DTSTART:20271031T010000
END:STANDARD
END:VTIMEZONE
BEGIN:VEVENT
DTSTART;TZID=Europe/Amsterdam:20260331T193000
DTEND;TZID=Europe/Amsterdam:20260331T213000
DTSTAMP:20260424T195639
CREATED:20251007T182847Z
LAST-MODIFIED:20251007T184234Z
UID:812-1774985400-1774992600@pvbreda.nl
SUMMARY:Ledenbijeenkomst met veiling
DESCRIPTION:Maandelijkse ledenavond waarin het bestuur de leden informeert over actuele postzegelzaken en een veiling wordt georganiseerd. Ook zijn er regelmatig lezingen en/of presentaties over postzegels. \nVeilinglijst: https://pvbreda.nl/veilingen/
URL:https://pvbreda.nl/event/ledenbijeenkomst-met-veiling-12/
LOCATION:Ontmoetingscentrum de Vlieren\, Monseigneur Nolensplein 1\, Breda\, Noord-Brabant\, 4812 JC\, Nederland
CATEGORIES:Ledenbijeenkomst
ATTACH;FMTTYPE=image/jpeg:https://pvbreda.nl/wp-content/uploads/2023/11/ba266eb1f0928ebe4fa1b2e222eb4079.jpg
ORGANIZER;CN="Bestuur PVBreda":MAILTO:info@pvbreda.nl
END:VEVENT
BEGIN:VEVENT
DTSTART;TZID=Europe/Amsterdam:20260224T193000
DTEND;TZID=Europe/Amsterdam:20260224T213000
DTSTAMP:20260424T195639
CREATED:20251007T182709Z
LAST-MODIFIED:20251007T184209Z
UID:810-1771961400-1771968600@pvbreda.nl
SUMMARY:Ledenbijeenkomst met veiling
DESCRIPTION:Maandelijkse ledenavond waarin het bestuur de leden informeert over actuele postzegelzaken en een veiling wordt georganiseerd. Ook zijn er regelmatig lezingen en/of presentaties over postzegels. \nVeilinglijst: https://pvbreda.nl/veilingen/
URL:https://pvbreda.nl/event/ledenbijeenkomst-met-veiling-11/
LOCATION:Ontmoetingscentrum de Vlieren\, Monseigneur Nolensplein 1\, Breda\, Noord-Brabant\, 4812 JC\, Nederland
CATEGORIES:Ledenbijeenkomst
ATTACH;FMTTYPE=image/jpeg:https://pvbreda.nl/wp-content/uploads/2023/11/ba266eb1f0928ebe4fa1b2e222eb4079.jpg
ORGANIZER;CN="Bestuur PVBreda":MAILTO:info@pvbreda.nl
END:VEVENT
BEGIN:VEVENT
DTSTART;TZID=Europe/Amsterdam:20260127T193000
DTEND;TZID=Europe/Amsterdam:20260127T220000
DTSTAMP:20260424T195639
CREATED:20240925T113156Z
LAST-MODIFIED:20251214T151628Z
UID:609-1769542200-1769551200@pvbreda.nl
SUMMARY:Bingo met veiling
DESCRIPTION:Kosten bingokaart: 1 stuks EUR 3\,–\,  2 stuks EUR 5\,– en 3 stuks EUR 6\,– \n  \nVeilinglijst: https://pvbreda.nl/veilingen/
URL:https://pvbreda.nl/event/bingo-met-veiling/
LOCATION:Ontmoetingscentrum de Vlieren\, Monseigneur Nolensplein 1\, Breda\, Noord-Brabant\, 4812 JC\, Nederland
CATEGORIES:Ledenbijeenkomst
ATTACH;FMTTYPE=image/jpeg:https://pvbreda.nl/wp-content/uploads/2023/11/bingo.jpg
ORGANIZER;CN="Bestuur PVBreda":MAILTO:info@pvbreda.nl
END:VEVENT
BEGIN:VEVENT
DTSTART;TZID=Europe/Amsterdam:20251216T193000
DTEND;TZID=Europe/Amsterdam:20251216T213000
DTSTAMP:20260424T195639
CREATED:20251007T182600Z
LAST-MODIFIED:20251028T200947Z
UID:808-1765913400-1765920600@pvbreda.nl
SUMMARY:Ledenbijeenkomst met veiling
DESCRIPTION:Maandelijkse ledenavond waarin het bestuur de leden informeert over actuele postzegelzaken en een veiling wordt georganiseerd. Ook zijn er regelmatig lezingen en/of presentaties over postzegels. \nVeilinglijst: https://pvbreda.nl/veilingen/
URL:https://pvbreda.nl/event/ledenbijeenkomst-met-veiling-10/
LOCATION:Ontmoetingscentrum de Vlieren\, Monseigneur Nolensplein 1\, Breda\, Noord-Brabant\, 4812 JC\, Nederland
CATEGORIES:Ledenbijeenkomst
ATTACH;FMTTYPE=image/jpeg:https://pvbreda.nl/wp-content/uploads/2023/11/ba266eb1f0928ebe4fa1b2e222eb4079.jpg
ORGANIZER;CN="Bestuur PVBreda":MAILTO:info@pvbreda.nl
END:VEVENT
BEGIN:VEVENT
DTSTART;TZID=Europe/Amsterdam:20251125T193000
DTEND;TZID=Europe/Amsterdam:20251125T213000
DTSTAMP:20260424T195639
CREATED:20240925T113027Z
LAST-MODIFIED:20240925T113027Z
UID:607-1764099000-1764106200@pvbreda.nl
SUMMARY:Ledenbijeenkomst met veiling
DESCRIPTION:Maandelijkse ledenavond waarin het bestuur de leden informeert over actuele postzegelzaken en een veiling wordt georganiseerd. Ook zijn er regelmatig lezingen en/of presentaties over postzegels. \nVeilinglijst: https://pvbreda.nl/veilingen/
URL:https://pvbreda.nl/event/ledenbijeenkomst-met-veiling-9/
LOCATION:Ontmoetingscentrum de Vlieren\, Monseigneur Nolensplein 1\, Breda\, Noord-Brabant\, 4812 JC\, Nederland
CATEGORIES:Ledenbijeenkomst
ATTACH;FMTTYPE=image/jpeg:https://pvbreda.nl/wp-content/uploads/2023/11/ba266eb1f0928ebe4fa1b2e222eb4079.jpg
ORGANIZER;CN="Bestuur PVBreda":MAILTO:info@pvbreda.nl
END:VEVENT
BEGIN:VEVENT
DTSTART;TZID=Europe/Amsterdam:20251028T193000
DTEND;TZID=Europe/Amsterdam:20251028T213000
DTSTAMP:20260424T195639
CREATED:20240925T112907Z
LAST-MODIFIED:20240925T112907Z
UID:605-1761679800-1761687000@pvbreda.nl
SUMMARY:Ledenbijeenkomst met veiling
DESCRIPTION:Maandelijkse ledenavond waarin het bestuur de leden informeert over actuele postzegelzaken en een veiling wordt georganiseerd. Ook zijn er regelmatig lezingen en/of presentaties over postzegels. \nVeilinglijst: https://pvbreda.nl/veilingen/
URL:https://pvbreda.nl/event/ledenbijeenkomst-met-veiling-8/
LOCATION:Ontmoetingscentrum de Vlieren\, Monseigneur Nolensplein 1\, Breda\, Noord-Brabant\, 4812 JC\, Nederland
CATEGORIES:Ledenbijeenkomst
ATTACH;FMTTYPE=image/jpeg:https://pvbreda.nl/wp-content/uploads/2023/11/ba266eb1f0928ebe4fa1b2e222eb4079.jpg
ORGANIZER;CN="Bestuur PVBreda":MAILTO:info@pvbreda.nl
END:VEVENT
BEGIN:VEVENT
DTSTART;TZID=Europe/Amsterdam:20250930T193000
DTEND;TZID=Europe/Amsterdam:20250930T213000
DTSTAMP:20260424T195639
CREATED:20240925T112717Z
LAST-MODIFIED:20240925T112717Z
UID:603-1759260600-1759267800@pvbreda.nl
SUMMARY:Ledenbijeenkomst met veiling
DESCRIPTION:Maandelijkse ledenavond waarin het bestuur de leden informeert over actuele postzegelzaken en een veiling wordt georganiseerd. Ook zijn er regelmatig lezingen en/of presentaties over postzegels. \nVeilinglijst: https://pvbreda.nl/veilingen/
URL:https://pvbreda.nl/event/ledenbijeenkomst-met-veiling-7/
LOCATION:Ontmoetingscentrum de Vlieren\, Monseigneur Nolensplein 1\, Breda\, Noord-Brabant\, 4812 JC\, Nederland
CATEGORIES:Ledenbijeenkomst
ATTACH;FMTTYPE=image/jpeg:https://pvbreda.nl/wp-content/uploads/2023/11/ba266eb1f0928ebe4fa1b2e222eb4079.jpg
ORGANIZER;CN="Bestuur PVBreda":MAILTO:info@pvbreda.nl
END:VEVENT
BEGIN:VEVENT
DTSTART;TZID=Europe/Amsterdam:20250617T193000
DTEND;TZID=Europe/Amsterdam:20250617T220000
DTSTAMP:20260424T195639
CREATED:20240925T112024Z
LAST-MODIFIED:20240925T112024Z
UID:601-1750188600-1750197600@pvbreda.nl
SUMMARY:Algemene Ledenvergadering met veiling
DESCRIPTION:Notulen: https://pvbreda.nl/algemene-leden-vergadering/ \nVeilinglijst: https://pvbreda.nl/veilingen/
URL:https://pvbreda.nl/event/algemene-ledenvergadering-met-veiling/
LOCATION:Ontmoetingscentrum de Vlieren\, Monseigneur Nolensplein 1\, Breda\, Noord-Brabant\, 4812 JC\, Nederland
CATEGORIES:Ledenbijeenkomst
ATTACH;FMTTYPE=image/jpeg:https://pvbreda.nl/wp-content/uploads/2023/12/cropped-Logo-PVBreda-2024.jpg
ORGANIZER;CN="Bestuur PVBreda":MAILTO:info@pvbreda.nl
END:VEVENT
BEGIN:VEVENT
DTSTART;TZID=Europe/Amsterdam:20250527T193000
DTEND;TZID=Europe/Amsterdam:20250527T213000
DTSTAMP:20260424T195639
CREATED:20240925T111742Z
LAST-MODIFIED:20240925T111742Z
UID:599-1748374200-1748381400@pvbreda.nl
SUMMARY:Ledenbijeenkomst met veiling
DESCRIPTION:Maandelijkse ledenavond waarin het bestuur de leden informeert over actuele postzegelzaken en een veiling wordt georganiseerd. Ook zijn er regelmatig lezingen en/of presentaties over postzegels. \nVeilinglijst: https://pvbreda.nl/veilingen/
URL:https://pvbreda.nl/event/ledenbijeenkomst-met-veiling-6/
LOCATION:Ontmoetingscentrum de Vlieren\, Monseigneur Nolensplein 1\, Breda\, Noord-Brabant\, 4812 JC\, Nederland
CATEGORIES:Ledenbijeenkomst
ATTACH;FMTTYPE=image/jpeg:https://pvbreda.nl/wp-content/uploads/2023/11/ba266eb1f0928ebe4fa1b2e222eb4079.jpg
ORGANIZER;CN="Bestuur PVBreda":MAILTO:info@pvbreda.nl
END:VEVENT
BEGIN:VEVENT
DTSTART;TZID=Europe/Amsterdam:20250429T193000
DTEND;TZID=Europe/Amsterdam:20250429T213000
DTSTAMP:20260424T195639
CREATED:20240925T111616Z
LAST-MODIFIED:20240925T111616Z
UID:597-1745955000-1745962200@pvbreda.nl
SUMMARY:Ledenbijeenkomst met veiling
DESCRIPTION:Maandelijkse ledenavond waarin het bestuur de leden informeert over actuele postzegelzaken en een veiling wordt georganiseerd. Ook zijn er regelmatig lezingen en/of presentaties over postzegels. \nVeilinglijst: https://pvbreda.nl/veilingen/
URL:https://pvbreda.nl/event/ledenbijeenkomst-met-veiling-5/
LOCATION:Ontmoetingscentrum de Vlieren\, Monseigneur Nolensplein 1\, Breda\, Noord-Brabant\, 4812 JC\, Nederland
CATEGORIES:Ledenbijeenkomst
ATTACH;FMTTYPE=image/jpeg:https://pvbreda.nl/wp-content/uploads/2023/11/ba266eb1f0928ebe4fa1b2e222eb4079.jpg
ORGANIZER;CN="Bestuur PVBreda":MAILTO:info@pvbreda.nl
END:VEVENT
BEGIN:VEVENT
DTSTART;TZID=Europe/Amsterdam:20250325T193000
DTEND;TZID=Europe/Amsterdam:20250325T213000
DTSTAMP:20260424T195639
CREATED:20240925T111454Z
LAST-MODIFIED:20240925T111454Z
UID:595-1742931000-1742938200@pvbreda.nl
SUMMARY:Ledenbijeenkomst met veiling
DESCRIPTION:Maandelijkse ledenavond waarin het bestuur de leden informeert over actuele postzegelzaken en een veiling wordt georganiseerd. Ook zijn er regelmatig lezingen en/of presentaties over postzegels. \nVeilinglijst: https://pvbreda.nl/veilingen/
URL:https://pvbreda.nl/event/ledenbijeenkomst-met-veiling-4/
LOCATION:Ontmoetingscentrum de Vlieren\, Monseigneur Nolensplein 1\, Breda\, Noord-Brabant\, 4812 JC\, Nederland
CATEGORIES:Ledenbijeenkomst
ATTACH;FMTTYPE=image/jpeg:https://pvbreda.nl/wp-content/uploads/2023/11/ba266eb1f0928ebe4fa1b2e222eb4079.jpg
ORGANIZER;CN="Bestuur PVBreda":MAILTO:info@pvbreda.nl
END:VEVENT
BEGIN:VEVENT
DTSTART;TZID=Europe/Amsterdam:20250225T193000
DTEND;TZID=Europe/Amsterdam:20250225T213000
DTSTAMP:20260424T195639
CREATED:20240925T111333Z
LAST-MODIFIED:20240925T111333Z
UID:593-1740511800-1740519000@pvbreda.nl
SUMMARY:Ledenbijeenkomst met veiling
DESCRIPTION:Maandelijkse ledenavond waarin het bestuur de leden informeert over actuele postzegelzaken en een veiling wordt georganiseerd. Ook zijn er regelmatig lezingen en/of presentaties over postzegels. \nVeilinglijst: https://pvbreda.nl/veilingen/
URL:https://pvbreda.nl/event/ledenbijeenkomst-met-veiling-3/
LOCATION:Ontmoetingscentrum de Vlieren\, Monseigneur Nolensplein 1\, Breda\, Noord-Brabant\, 4812 JC\, Nederland
CATEGORIES:Ledenbijeenkomst
ATTACH;FMTTYPE=image/jpeg:https://pvbreda.nl/wp-content/uploads/2023/11/ba266eb1f0928ebe4fa1b2e222eb4079.jpg
ORGANIZER;CN="Bestuur PVBreda":MAILTO:info@pvbreda.nl
END:VEVENT
BEGIN:VEVENT
DTSTART;TZID=Europe/Amsterdam:20250128T193000
DTEND;TZID=Europe/Amsterdam:20250128T213000
DTSTAMP:20260424T195639
CREATED:20240925T111104Z
LAST-MODIFIED:20240925T111207Z
UID:591-1738092600-1738099800@pvbreda.nl
SUMMARY:Ledenbijeenkomst met veiling
DESCRIPTION:Maandelijkse ledenavond waarin het bestuur de leden informeert over actuele postzegelzaken en een veiling wordt georganiseerd. Ook zijn er regelmatig lezingen en/of presentaties over postzegels. \nVeilinglijst: https://pvbreda.nl/veilingen/
URL:https://pvbreda.nl/event/ledenbijeenkomst-met-veiling-2/
LOCATION:Ontmoetingscentrum de Vlieren\, Monseigneur Nolensplein 1\, Breda\, Noord-Brabant\, 4812 JC\, Nederland
CATEGORIES:Ledenbijeenkomst
ATTACH;FMTTYPE=image/jpeg:https://pvbreda.nl/wp-content/uploads/2023/11/ba266eb1f0928ebe4fa1b2e222eb4079.jpg
ORGANIZER;CN="Bestuur PVBreda":MAILTO:info@pvbreda.nl
END:VEVENT
BEGIN:VEVENT
DTSTART;TZID=Europe/Amsterdam:20241217T193000
DTEND;TZID=Europe/Amsterdam:20241217T213000
DTSTAMP:20260424T195639
CREATED:20231129T160339Z
LAST-MODIFIED:20241030T081623Z
UID:289-1734463800-1734471000@pvbreda.nl
SUMMARY:Bingo met kleine veiling
DESCRIPTION:Onze jaarlijkse Bingo om het jaar weer af te sluiten met elkaar! Er zijn drie rondes en elke ronde heeft drie prijzen. Kosten per bingokaart per ronde\, 3 euro\, 2 kaarten 5 euro en 3 kaarten 6 euro. Leden en partner zijn hierbij van harte uitgenodigd. Aanvang 19:30. Voorafgaand aan de Bingo is een kleine veiling. \nVeilinglijst: https://pvbreda.nl/veilingen/
URL:https://pvbreda.nl/event/bingo-met-kleine-veiling/
LOCATION:Ontmoetingscentrum de Vlieren\, Monseigneur Nolensplein 1\, Breda\, Noord-Brabant\, 4812 JC\, Nederland
CATEGORIES:Ledenbijeenkomst
ATTACH;FMTTYPE=image/jpeg:https://pvbreda.nl/wp-content/uploads/2023/11/bingo.jpg
ORGANIZER;CN="Bestuur PVBreda":MAILTO:info@pvbreda.nl
END:VEVENT
BEGIN:VEVENT
DTSTART;TZID=Europe/Amsterdam:20241126T193000
DTEND;TZID=Europe/Amsterdam:20241126T213000
DTSTAMP:20260424T195639
CREATED:20231129T155846Z
LAST-MODIFIED:20240227T204841Z
UID:280-1732649400-1732656600@pvbreda.nl
SUMMARY:Ledenbijeenkomst met veiling
DESCRIPTION:Maandelijkse ledenavond waarin het bestuur de leden informeert over actuele postzegelzaken en een veiling wordt georganiseerd. Ook zijn er regelmatig lezingen en/of presentaties over postzegels. \nVeilinglijst: https://pvbreda.nl/veilingen/
URL:https://pvbreda.nl/event/ledenavond-met-veiling-7/
LOCATION:Ontmoetingscentrum de Vlieren\, Monseigneur Nolensplein 1\, Breda\, Noord-Brabant\, 4812 JC\, Nederland
CATEGORIES:Ledenbijeenkomst
ATTACH;FMTTYPE=image/jpeg:https://pvbreda.nl/wp-content/uploads/2023/11/ba266eb1f0928ebe4fa1b2e222eb4079.jpg
ORGANIZER;CN="Bestuur PVBreda":MAILTO:info@pvbreda.nl
END:VEVENT
BEGIN:VEVENT
DTSTART;TZID=Europe/Amsterdam:20241029T193000
DTEND;TZID=Europe/Amsterdam:20241029T213000
DTSTAMP:20260424T195639
CREATED:20231129T155733Z
LAST-MODIFIED:20240227T204742Z
UID:278-1730230200-1730237400@pvbreda.nl
SUMMARY:Ledenbijeenkomst met veiling
DESCRIPTION:Maandelijkse ledenavond waarin het bestuur de leden informeert over actuele postzegelzaken en een veiling wordt georganiseerd. Ook zijn er regelmatig lezingen en/of presentaties over postzegels. \nVeilinglijst: https://pvbreda.nl/veilingen/
URL:https://pvbreda.nl/event/ledenavond-met-veiling-6/
LOCATION:Ontmoetingscentrum de Vlieren\, Monseigneur Nolensplein 1\, Breda\, Noord-Brabant\, 4812 JC\, Nederland
CATEGORIES:Ledenbijeenkomst
ATTACH;FMTTYPE=image/jpeg:https://pvbreda.nl/wp-content/uploads/2023/11/ba266eb1f0928ebe4fa1b2e222eb4079.jpg
ORGANIZER;CN="Bestuur PVBreda":MAILTO:info@pvbreda.nl
END:VEVENT
BEGIN:VEVENT
DTSTART;TZID=Europe/Amsterdam:20240924T193000
DTEND;TZID=Europe/Amsterdam:20240924T213000
DTSTAMP:20260424T195639
CREATED:20231129T155620Z
LAST-MODIFIED:20240227T204659Z
UID:276-1727206200-1727213400@pvbreda.nl
SUMMARY:Ledenbijeenkomst met veiling
DESCRIPTION:Maandelijkse ledenavond waarin het bestuur de leden informeert over actuele postzegelzaken en een veiling wordt georganiseerd. Ook zijn er regelmatig lezingen en/of presentaties over postzegels. \nVeilinglijst: https://pvbreda.nl/veilingen/
URL:https://pvbreda.nl/event/ledenbijeenkomst-met-veiling/
LOCATION:Noord-Brabant
CATEGORIES:Ledenbijeenkomst
ATTACH;FMTTYPE=image/jpeg:https://pvbreda.nl/wp-content/uploads/2023/11/ba266eb1f0928ebe4fa1b2e222eb4079.jpg
END:VEVENT
BEGIN:VEVENT
DTSTART;TZID=Europe/Amsterdam:20240618T193000
DTEND;TZID=Europe/Amsterdam:20240618T213000
DTSTAMP:20260424T195639
CREATED:20231129T155522Z
LAST-MODIFIED:20240227T204634Z
UID:274-1718739000-1718746200@pvbreda.nl
SUMMARY:Algemene Leden Vergadering
DESCRIPTION:Notulen vorige vergadering vindt u op deze website onder het menu ALV.\nAgenda wordt gepubliceerd in de BrePost. \nVeilinglijst: https://pvbreda.nl/veilingen/
URL:https://pvbreda.nl/event/algemene-leden-vergadering/
LOCATION:Ontmoetingscentrum de Vlieren\, Monseigneur Nolensplein 1\, Breda\, Noord-Brabant\, 4812 JC\, Nederland
CATEGORIES:Ledenbijeenkomst
ATTACH;FMTTYPE=image/jpeg:https://pvbreda.nl/wp-content/uploads/2023/11/ba266eb1f0928ebe4fa1b2e222eb4079.jpg
ORGANIZER;CN="Bestuur PVBreda":MAILTO:info@pvbreda.nl
END:VEVENT
BEGIN:VEVENT
DTSTART;TZID=Europe/Amsterdam:20240528T193000
DTEND;TZID=Europe/Amsterdam:20240528T213000
DTSTAMP:20260424T195639
CREATED:20231129T155258Z
LAST-MODIFIED:20240227T204555Z
UID:272-1716924600-1716931800@pvbreda.nl
SUMMARY:Ledenbijeenkomst met veiling
DESCRIPTION:Maandelijkse ledenavond waarin het bestuur de leden informeert over actuele postzegelzaken en een veiling wordt georganiseerd. Ook zijn er regelmatig lezingen en/of presentaties over postzegels. \nVeilinglijst: https://pvbreda.nl/veilingen/
URL:https://pvbreda.nl/event/ledenavond-met-veiling-5/
LOCATION:Ontmoetingscentrum de Vlieren\, Monseigneur Nolensplein 1\, Breda\, Noord-Brabant\, 4812 JC\, Nederland
CATEGORIES:Ledenbijeenkomst
ATTACH;FMTTYPE=image/jpeg:https://pvbreda.nl/wp-content/uploads/2023/11/ba266eb1f0928ebe4fa1b2e222eb4079.jpg
ORGANIZER;CN="Bestuur PVBreda":MAILTO:info@pvbreda.nl
END:VEVENT
BEGIN:VEVENT
DTSTART;TZID=Europe/Amsterdam:20240430T193000
DTEND;TZID=Europe/Amsterdam:20240430T213000
DTSTAMP:20260424T195639
CREATED:20231129T155144Z
LAST-MODIFIED:20240227T204531Z
UID:270-1714505400-1714512600@pvbreda.nl
SUMMARY:Ledenbijeenkomst met veiling
DESCRIPTION:Maandelijkse ledenavond waarin het bestuur de leden informeert over actuele postzegelzaken en een veiling wordt georganiseerd. Ook zijn er regelmatig lezingen en/of presentaties over postzegels. \nVeilinglijst: https://pvbreda.nl/veilingen/
URL:https://pvbreda.nl/event/ledenavond-met-veiling-4/
LOCATION:Ontmoetingscentrum de Vlieren\, Monseigneur Nolensplein 1\, Breda\, Noord-Brabant\, 4812 JC\, Nederland
CATEGORIES:Ledenbijeenkomst
ATTACH;FMTTYPE=image/jpeg:https://pvbreda.nl/wp-content/uploads/2023/11/ba266eb1f0928ebe4fa1b2e222eb4079.jpg
ORGANIZER;CN="Bestuur PVBreda":MAILTO:info@pvbreda.nl
END:VEVENT
BEGIN:VEVENT
DTSTART;TZID=Europe/Amsterdam:20240326T193000
DTEND;TZID=Europe/Amsterdam:20240326T213000
DTSTAMP:20260424T195639
CREATED:20231129T155018Z
LAST-MODIFIED:20240227T204459Z
UID:268-1711481400-1711488600@pvbreda.nl
SUMMARY:Ledenbijeenkomst met veiling
DESCRIPTION:Maandelijkse ledenavond waarin het bestuur de leden informeert over actuele postzegelzaken en een veiling wordt georganiseerd. Ook zijn er regelmatig lezingen en/of presentaties over postzegels. \nVeilinglijst: https://pvbreda.nl/veilingen/
URL:https://pvbreda.nl/event/ledenavond-met-veiling-3/
LOCATION:Ontmoetingscentrum de Vlieren\, Monseigneur Nolensplein 1\, Breda\, Noord-Brabant\, 4812 JC\, Nederland
CATEGORIES:Ledenbijeenkomst
ATTACH;FMTTYPE=image/jpeg:https://pvbreda.nl/wp-content/uploads/2023/11/ba266eb1f0928ebe4fa1b2e222eb4079.jpg
ORGANIZER;CN="Bestuur PVBreda":MAILTO:info@pvbreda.nl
END:VEVENT
BEGIN:VEVENT
DTSTART;TZID=Europe/Amsterdam:20240227T193000
DTEND;TZID=Europe/Amsterdam:20240227T213000
DTSTAMP:20260424T195639
CREATED:20231129T154856Z
LAST-MODIFIED:20231129T160133Z
UID:266-1709062200-1709069400@pvbreda.nl
SUMMARY:Ledenbijeenkomst met veiling
DESCRIPTION:Maandelijkse ledenavond waarin het bestuur de leden informeert over actuele postzegelzaken en een veiling wordt georganiseerd. Ook zijn er regelmatig lezingen en/of presentaties over postzegels.
URL:https://pvbreda.nl/event/ledenavond-met-veiling-2/
LOCATION:Ontmoetingscentrum de Vlieren\, Monseigneur Nolensplein 1\, Breda\, Noord-Brabant\, 4812 JC\, Nederland
CATEGORIES:Ledenbijeenkomst
ATTACH;FMTTYPE=image/jpeg:https://pvbreda.nl/wp-content/uploads/2023/11/ba266eb1f0928ebe4fa1b2e222eb4079.jpg
ORGANIZER;CN="Bestuur PVBreda":MAILTO:info@pvbreda.nl
END:VEVENT
BEGIN:VEVENT
DTSTART;TZID=Europe/Amsterdam:20240130T193000
DTEND;TZID=Europe/Amsterdam:20240130T213000
DTSTAMP:20260424T195639
CREATED:20231129T154207Z
LAST-MODIFIED:20231129T160203Z
UID:261-1706643000-1706650200@pvbreda.nl
SUMMARY:Ledenbijeenkomst met veiling
DESCRIPTION:Maandelijkse ledenavond waarin het bestuur de leden informeert over actuele postzegelzaken en een veiling wordt georganiseerd. Ook zijn er regelmatig lezingen en/of presentaties over postzegels.
URL:https://pvbreda.nl/event/ledenavond-met-veiling/
LOCATION:Ontmoetingscentrum de Vlieren\, Monseigneur Nolensplein 1\, Breda\, Noord-Brabant\, 4812 JC\, Nederland
CATEGORIES:Ledenbijeenkomst
ATTACH;FMTTYPE=image/jpeg:https://pvbreda.nl/wp-content/uploads/2023/11/ba266eb1f0928ebe4fa1b2e222eb4079.jpg
ORGANIZER;CN="Bestuur PVBreda":MAILTO:info@pvbreda.nl
END:VEVENT
BEGIN:VEVENT
DTSTART;TZID=Europe/Amsterdam:20231219T193000
DTEND;TZID=Europe/Amsterdam:20231219T220000
DTSTAMP:20260424T195639
CREATED:20231102T195450Z
LAST-MODIFIED:20231107T190050Z
UID:98-1703014200-1703023200@pvbreda.nl
SUMMARY:Bingoavond met kleine veiling
DESCRIPTION:Leden mogen hun partners meenemen \nBingokaarten zijn die avond te koop: 1 kaart kost € 2\,50\, 2 kaarten kosten € 5\,– en 3 kaarten kosten € 6\,–
URL:https://pvbreda.nl/event/bingoavond-met-kleine-veiling/
LOCATION:Ontmoetingscentrum de Vlieren\, Monseigneur Nolensplein 1\, Breda\, Noord-Brabant\, 4812 JC\, Nederland
CATEGORIES:Ledenbijeenkomst
ATTACH;FMTTYPE=image/jpeg:https://pvbreda.nl/wp-content/uploads/2023/11/bingo.jpg
ORGANIZER;CN="Bestuur PVBreda":MAILTO:info@pvbreda.nl
END:VEVENT
BEGIN:VEVENT
DTSTART;TZID=Europe/Amsterdam:20231118T100000
DTEND;TZID=Europe/Amsterdam:20231118T160000
DTSTAMP:20260424T195639
CREATED:20231102T184552Z
LAST-MODIFIED:20231102T184720Z
UID:68-1700301600-1700323200@pvbreda.nl
SUMMARY:Viering jubileum 130 jarig bestaan
DESCRIPTION:130 jaar Postzegel Vereniging Breda 1893-2023 \n18 november 2023 \nGrote Verzamelbeurs \nVan 10.00 uur tot 16.00 uur \nVeiling aanvang 14:00 \nGratis toegang
URL:https://pvbreda.nl/event/viering-jubileum-130-jarig-bestaan/
LOCATION:Ontmoetingscentrum de Vlieren\, Monseigneur Nolensplein 1\, Breda\, Noord-Brabant\, 4812 JC\, Nederland
CATEGORIES:Ledenbijeenkomst
ATTACH;FMTTYPE=image/png:https://pvbreda.nl/wp-content/uploads/2023/11/Jubileum-130-jaar-1.png
ORGANIZER;CN="Bestuur PVBreda":MAILTO:info@pvbreda.nl
END:VEVENT
END:VCALENDAR